BEGIN:VCALENDAR
VERSION:2.0
PRODID:-//Plone.org//NONSGML plone.app.event//EN
X-WR-TIMEZONE:America/New_York
BEGIN:VEVENT
SUMMARY:Gas Leak Study: Participant Recruitment
DTSTART;TZID=America/New_York:20211208T130000
DTEND;TZID=America/New_York:20211208T140000
DTSTAMP:20260421T042330Z
UID:288e14c666b0432f836dc96aa73bfa12@172.16.140.7:8080
CONTACT:Monique Hylton\, Mhylton@besthealthresearch.org\, https://us02web.
 zoom.us/meeting/register/tZIkce2rrj0tEtBWtQ1s5zYMQX671OO7hTmJ
CREATED:20211203T002450Z
DESCRIPTION:The UrbanHealth Lab presents its weekly Wednesday seminar with
  a Formal Presentation on Gas Leak Study: Participant Recruitment  (Method
 s and Results) by Letitia Bridgeman\, Glenda  Garcia and Maharanni Singh.
LAST-MODIFIED:20211203T143558Z
LOCATION:Zoom
URL:https://www.york.cuny.edu/events/2021/gas-leak-study-participant-recru
 itment--methods-and-results
END:VEVENT
BEGIN:VTIMEZONE
TZID:America/New_York
X-LIC-LOCATION:America/New_York
BEGIN:STANDARD
DTSTART:20211107T010000
TZNAME:EST
TZOFFSETFROM:-0400
TZOFFSETTO:-0500
END:STANDARD
END:VTIMEZONE
END:VCALENDAR
