BEGIN:VCALENDAR
VERSION:2.0
PRODID:-//Plone.org//NONSGML plone.app.event//EN
X-WR-TIMEZONE:America/New_York
BEGIN:VEVENT
SUMMARY:FLY Week #5 Lower Body Wednesday - Rec On-Demand Workout Program
DTSTART;VALUE=DATE:20210512
DTEND;VALUE=DATE:20210513
DTSTAMP:20260420T202409Z
UID:3e3b893200d2430d87d05fc0f867c20b@172.16.140.7:8080
CATEGORIES:Athletics Digital Signage,employee,Athletics,ds,employee featur
 ed,Current Students,student,Student Activities
CONTACT:York Athletics & Recreation\, yorkathletics@york.cuny.edu\, https:
 //youtu.be/btWQTVwgrhE
CREATED:20201106T201632Z
DESCRIPTION:Recreation presents the FLY Workout Program with Lower Body We
 dnesday of Week #5. The FLY Workout Program features 5-weeks of dynamic st
 ructured workouts available on-demand.
LAST-MODIFIED:20210412T014518Z
LOCATION:https://www.yorkathletics.com/fly
URL:https://www.york.cuny.edu/events/2021/fly-week-5-lower-body-wednesday-
 recreation-on-demand-workout-program-apr2021
END:VEVENT
END:VCALENDAR
