BEGIN:VCALENDAR
VERSION:2.0
PRODID:-//Plone.org//NONSGML plone.app.event//EN
X-WR-TIMEZONE:America/New_York
BEGIN:VEVENT
SUMMARY:FLY Week #5 Full Body Monday - Rec On-Demand Workout Program
DTSTART;TZID=America/New_York:20210510T103000
DTSTAMP:20260420T184702Z
UID:b5f8213d56d04918b9c25397c1065179@172.16.140.7:8080
CATEGORIES:Athletics Digital Signage,employee,Athletics,ds,employee featur
 ed,Current Students,student,Student Activities
CONTACT:York Athletics & Recreation\, yorkathletics@york.cuny.edu\, https:
 //youtu.be/4MWo94UepGE
CREATED:20201106T201339Z
DESCRIPTION:Recreation presents the FLY Workout Program with Full Body Mon
 day of Week #5. The FLY Workout Program features 5-weeks of dynamic struct
 ured workouts available on-demand.
LAST-MODIFIED:20210412T014359Z
LOCATION:https://www.yorkathletics.com/fly
URL:https://www.york.cuny.edu/events/2021/fly-week-5-full-body-monday-recr
 eation-on-demand-workout-program-apr2021
END:VEVENT
BEGIN:VTIMEZONE
TZID:America/New_York
X-LIC-LOCATION:America/New_York
BEGIN:DAYLIGHT
DTSTART:20210314T030000
TZNAME:EDT
TZOFFSETFROM:-0500
TZOFFSETTO:-0400
END:DAYLIGHT
END:VTIMEZONE
END:VCALENDAR
