BEGIN:VCALENDAR
VERSION:2.0
PRODID:-//Plone.org//NONSGML plone.app.event//EN
X-WR-TIMEZONE:America/New_York
BEGIN:VEVENT
SUMMARY:FLY Week #5 Cardio/Upper Body Friday - Rec On-Demand Workout Progr
 am
DTSTART;VALUE=DATE:20210514
DTEND;VALUE=DATE:20210515
DTSTAMP:20260420T203019Z
UID:6bc872d7e02c4e58863eff772f969ee0@172.16.140.7:8080
CATEGORIES:Athletics Digital Signage,employee,Athletics,ds,employee featur
 ed,Current Students,student,Student Activities
CONTACT:York Athletics & Recreation\, yorkathletics@york.cuny.edu\, https:
 //youtu.be/Oh7ppCf_dks
CREATED:20201106T201919Z
DESCRIPTION:Recreation presents the FLY Workout Program with Cardio & Uppe
 r Body Friday of Week #5. The FLY Workout Program features 5-weeks of dyna
 mic structured workouts available on-demand.
LAST-MODIFIED:20210412T014650Z
LOCATION:https://www.yorkathletics.com/fly
URL:https://www.york.cuny.edu/events/2021/fly-week-5-cardio-upper-body-fri
 day-recreation-on-demand-workout-program-apr2021
END:VEVENT
END:VCALENDAR
