BEGIN:VCALENDAR
VERSION:2.0
PRODID:-//Plone.org//NONSGML plone.app.event//EN
X-WR-TIMEZONE:America/New_York
BEGIN:VEVENT
SUMMARY:FLY Week #3 Core Thursday - Rec On-Demand Workout Program
DTSTART;VALUE=DATE:20210429
DTEND;VALUE=DATE:20210430
DTSTAMP:20260420T051523Z
UID:b1e91e9dbc914a4a99cced8c516c73a0@172.16.140.7:8080
CATEGORIES:Athletics Digital Signage,employee,Athletics,ds,employee featur
 ed,Current Students,student,Student Activities
CONTACT:York Athletics & Recreation\, yorkathletics@york.cuny.edu\, https:
 //youtu.be/pgabn6_lOHA
CREATED:20201106T200018Z
DESCRIPTION:Recreation presents the FLY Workout Program with Core Thursday
  of Week #3. The FLY Workout Program features 5-weeks of dynamic structure
 d workouts available on-demand.
LAST-MODIFIED:20210412T013750Z
LOCATION:https://www.yorkathletics.com/fly
URL:https://www.york.cuny.edu/events/2021/fly-week-3-core-thursday-recreat
 ion-on-demand-workout-program-apr2021
END:VEVENT
END:VCALENDAR
