BEGIN:VCALENDAR
VERSION:2.0
PRODID:-//Plone.org//NONSGML plone.app.event//EN
X-WR-TIMEZONE:America/New_York
BEGIN:VEVENT
SUMMARY:FLY Week #2 Core Wednesday - Rec On-Demand Workout Program
DTSTART;VALUE=DATE:20210120
DTEND;VALUE=DATE:20210121
DTSTAMP:20260419T125224Z
UID:37682be21a4d465181368951849fd217@172.16.140.7:8080
CATEGORIES:Athletics Digital Signage,employee,Athletics,ds,employee featur
 ed,student,Student Activities
CONTACT:John Baxter\, jbaxter@york.cuny.edu\, https://youtu.be/82SOfDl25xM
CREATED:20210105T150220Z
DESCRIPTION:Recreation presents the FLY workout program with Core Wednesda
 y of Week #2. The FLY workout program features 5-weeks of dynamic structur
 ed workouts available on-demand.
LAST-MODIFIED:20210105T150323Z
LOCATION:https://www.yorkathletics.com/fly
URL:https://www.york.cuny.edu/events/2021/fly-week-2-core-wednesday---rec-
 on-demand-workout-program
END:VEVENT
END:VCALENDAR
