BEGIN:VCALENDAR
VERSION:2.0
PRODID:-//Plone.org//NONSGML plone.app.event//EN
X-WR-TIMEZONE:America/New_York
BEGIN:VEVENT
SUMMARY:FLY Week #1 Upper Body Tuesday - Rec On-Demand Workout Program
DTSTART;VALUE=DATE:20210413
DTEND;VALUE=DATE:20210414
DTSTAMP:20260420T172933Z
UID:f65b1ff8660b46f785d8f04887f84c6d@172.16.140.7:8080
CATEGORIES:Athletics Digital Signage,employee,Athletics,ds,employee featur
 ed,Current Students,student,Student Activities
CONTACT:York Athletics & Recreation\, yorkathletics@york.cuny.edu\, https:
 //youtu.be/-3jKt65uE6M
CREATED:20201106T193538Z
DESCRIPTION:Recreation presents the FLY Workout Program with Upper Body Tu
 esday of Week #1. The FLY Workout Program features 5-weeks of dynamic stru
 ctured workouts available on-demand.
LAST-MODIFIED:20210412T012124Z
LOCATION:https://www.yorkathletics.com/fly
URL:https://www.york.cuny.edu/events/2021/fly-week-1-upper-body-tuesday-re
 creation-on-demand-workout-program-apr2021
END:VEVENT
END:VCALENDAR
