BEGIN:VCALENDAR
VERSION:2.0
PRODID:-//Plone.org//NONSGML plone.app.event//EN
X-WR-TIMEZONE:America/New_York
BEGIN:VEVENT
SUMMARY:FLY Week #1 Upper Body Tuesday - Rec On-Demand Workout Program
DTSTART;VALUE=DATE:20210112
DTEND;VALUE=DATE:20210113
DTSTAMP:20260420T005832Z
UID:2f1155e83e54452289f3659913b9bcf1@172.16.140.7:8080
CATEGORIES:Athletics Digital Signage,employee,Athletics,ds,employee featur
 ed,student,Student Activities
CONTACT:John Baxter\, jbaxter@york.cuny.edu\, https://youtu.be/-3jKt65uE6M
CREATED:20210105T145115Z
DESCRIPTION:Recreation presents the FLY workout program with Upper Body Tu
 esday of Week #1. The FLY workout program features 5-weeks of dynamic stru
 ctured workouts available on-demand.
LAST-MODIFIED:20210105T145242Z
LOCATION:https://www.yorkathletics.com/fly
URL:https://www.york.cuny.edu/events/2021/fly-week-1-upper-body-tuesday---
 rec-on-demand-workout-program
END:VEVENT
END:VCALENDAR
