BEGIN:VCALENDAR
VERSION:2.0
PRODID:-//Plone.org//NONSGML plone.app.event//EN
X-WR-TIMEZONE:America/New_York
BEGIN:VEVENT
SUMMARY:FLY Week #1 Lower Body Thursday - Rec On-Demand Workout Program
DTSTART;VALUE=DATE:20210415
DTEND;VALUE=DATE:20210416
DTSTAMP:20260420T190658Z
UID:3a9772815d374179801473e2a590f5ef@172.16.140.7:8080
CATEGORIES:Athletics Digital Signage,employee,Athletics,ds,employee featur
 ed,Current Students,student,Student Activities
CONTACT:York Athletics & Recreation\, yorkathletics@york.cuny.edu\, https:
 //youtu.be/sFp7WUXSRuU
CREATED:20201106T193909Z
DESCRIPTION:Recreation presents the FLY Workout Program with Lower Body Th
 ursday of Week #1. The FLY Workout Program features 5-weeks of dynamic str
 uctured workouts available on-demand.
LAST-MODIFIED:20210412T012159Z
LOCATION:https://www.yorkathletics.com/fly
URL:https://www.york.cuny.edu/events/2021/fly-week-1-lower-body-thursday-r
 ecreation-on-demand-workout-program-apr2021
END:VEVENT
END:VCALENDAR
