BEGIN:VCALENDAR
VERSION:2.0
PRODID:-//Plone.org//NONSGML plone.app.event//EN
X-WR-TIMEZONE:America/New_York
BEGIN:VEVENT
SUMMARY:Cardinals Snowflake Run/Walk Challenge
DTSTART;VALUE=DATE:20210101
DTEND;VALUE=DATE:20210201
DTSTAMP:20260420T193158Z
UID:6a55064782f64c5a9060c980626121ce@172.16.140.7:8080
CATEGORIES:Athletics Digital Signage,employee,Athletics,ds,employee featur
 ed,student,Student Activities
CONTACT:York Athletics & Recreation\, yorkathletics@york.cuny.edu\, https:
 //yorkathletics.com/snowflakerunwalk
CREATED:20201228T142912Z
DESCRIPTION:Take part in our Virtual Snowflake Run/Walk Challenge by loggi
 ng miles outside or on a treadmill Jan. 1-31 as part of a friendly competi
 tion of the campus community to encourage well-being/physical activity whi
 le practicing physical distancing.
LAST-MODIFIED:20201228T143256Z
LOCATION:Virtual (Nike Run Club app)
URL:https://www.york.cuny.edu/events/2021/cardinals-snowflake-runwalk-chal
 lenge
END:VEVENT
END:VCALENDAR
