BEGIN:VCALENDAR
VERSION:2.0
PRODID:-//Plone.org//NONSGML plone.app.event//EN
X-WR-TIMEZONE:America/New_York
BEGIN:VEVENT
SUMMARY:Caucus CUNY Scholars Program Deadline
DTSTART;VALUE=DATE:20211130
DTEND;VALUE=DATE:20211201
DTSTAMP:20260419T185746Z
UID:96231213f2ae4492a92568a3f1fbbcc5@172.16.140.7:8080
CONTACT:Dr. Robin Harper\, 718-262-2692\, rharper@york.cuny.edu\, https://
 cunysud.formstack.com/forms/caucuscunyapplication
CREATED:20211111T191619Z
DESCRIPTION:Do you want a paid meaningful internship in the government thi
 s spring? Apply for the Caucus CUNY Scholars Program! The New York State B
 lack\, Puerto Rican\, Hispanic\, and Asian Legislative Caucus City Univers
 ity of New York Scholars Program (Caucus CUNY Scholars Program) will provi
 de highly qualified individuals with experiential learning via the New Yor
 k City district offices of state legislators that comprise the membership 
 on the Caucus.
LAST-MODIFIED:20211112T144501Z
LOCATION:Online
URL:https://www.york.cuny.edu/events/2021/apply-for-the-caucus-cuny-schola
 rs-program-
END:VEVENT
END:VCALENDAR
