BEGIN:VCALENDAR
VERSION:2.0
PRODID:-//Plone.org//NONSGML plone.app.event//EN
X-WR-TIMEZONE:America/New_York
BEGIN:VEVENT
SUMMARY:Documentary Film: Vanishing Sail-The Story of a Caribbean Traditio
 n
DTSTART;TZID=America/New_York:20180226T180000
DTEND;TZID=America/New_York:20180226T204500
DTSTAMP:20260419T134320Z
UID:36ada0fab0f24c0698639de4c59c1bfd@172.16.140.7:8080
CATEGORIES:employee featured,African American Resource Center,student,empl
 oyee
CONTACT:Jim Papa Dept. of English\, jpapa@york.cuny.edu
CREATED:20180215T145913Z
DESCRIPTION:The African American Resource Center presents Vanishing Sail-T
 he Story of a Caribbean Tradition
LAST-MODIFIED:20180216T204537Z
LOCATION:AC-3B04\, (AARC)
URL:https://www.york.cuny.edu/events/2019/vanishing-sail
END:VEVENT
BEGIN:VTIMEZONE
TZID:America/New_York
X-LIC-LOCATION:America/New_York
BEGIN:STANDARD
DTSTART:20171105T010000
TZNAME:EST
TZOFFSETFROM:-0400
TZOFFSETTO:-0500
END:STANDARD
END:VTIMEZONE
END:VCALENDAR
