BEGIN:VCALENDAR
VERSION:2.0
PRODID:-//Plone.org//NONSGML plone.app.event//EN
X-WR-TIMEZONE:America/New_York
BEGIN:VEVENT
SUMMARY:Student Services Resource Fair
DTSTART;TZID=America/New_York:20191010T120000
DTEND;TZID=America/New_York:20191010T140000
DTSTAMP:20260419T201431Z
UID:088d9acc8f664432a9d33989cbdc2cb5@172.16.140.7:8080
CATEGORIES:employee featured,Student Activities,Student Affairs,student,em
 ployee,Student Services
CONTACT:Jean Phelps\, jphelps@york.cuny.edu
CREATED:20191007T145210Z
DESCRIPTION:The purpose of this one-stop-shop fair is for students to obta
 in information on all of the support services and resources that are avail
 able so they can be successful at York College.
LAST-MODIFIED:20191007T172237Z
LOCATION:Atrium/Academic Core Building
URL:https://www.york.cuny.edu/events/2019/student-services-resource-fair
END:VEVENT
BEGIN:VTIMEZONE
TZID:America/New_York
X-LIC-LOCATION:America/New_York
BEGIN:DAYLIGHT
DTSTART:20190310T030000
TZNAME:EDT
TZOFFSETFROM:-0500
TZOFFSETTO:-0400
END:DAYLIGHT
END:VTIMEZONE
END:VCALENDAR
