BEGIN:VCALENDAR
VERSION:2.0
PRODID:-//Plone.org//NONSGML plone.app.event//EN
X-WR-TIMEZONE:America/New_York
BEGIN:VEVENT
SUMMARY:Resume Workshop
DTSTART;TZID=America/New_York:20191105T120000
DTEND;TZID=America/New_York:20191105T140000
DTSTAMP:20260424T034402Z
UID:affd230705bb425fbf716f223475ba29@172.16.140.7:8080
CATEGORIES:Career Services,employee featured,student
CONTACT:Dhanmattie Singh\, DSingh@york.cuny.edu
CREATED:20191009T161408Z
DESCRIPTION:Do’s and dont’s of resume writing\, we will review your re
 sume so you can begin your career search!
LAST-MODIFIED:20191009T184746Z
LOCATION:AC-3M01
URL:https://www.york.cuny.edu/events/2019/resume-workshop
END:VEVENT
BEGIN:VTIMEZONE
TZID:America/New_York
X-LIC-LOCATION:America/New_York
BEGIN:STANDARD
DTSTART:20191103T010000
TZNAME:EST
TZOFFSETFROM:-0400
TZOFFSETTO:-0500
END:STANDARD
END:VTIMEZONE
END:VCALENDAR
