BEGIN:VCALENDAR
VERSION:2.0
PRODID:-//Plone.org//NONSGML plone.app.event//EN
X-WR-TIMEZONE:America/New_York
BEGIN:VEVENT
SUMMARY:Physician Assistant Program Open House
DTSTART;TZID=America/New_York:20181108T120000
DTEND;TZID=America/New_York:20181108T130000
DTSTAMP:20260424T004726Z
UID:8db39e749fa64f7695b5d44175f76d81@172.16.140.7:8080
CATEGORIES:Physician Assistant,PA Program,ds,student
CONTACT:Tenesha Spain\, 718-262-2821\, tspain@york.cuny.edu
CREATED:20181009T195835Z
DESCRIPTION:Session II of III - Question and Answer Sessions
LAST-MODIFIED:20181101T194247Z
LOCATION:SC-133
URL:https://www.york.cuny.edu/events/2019/physician-assistant-program-open
 -house
END:VEVENT
BEGIN:VTIMEZONE
TZID:America/New_York
X-LIC-LOCATION:America/New_York
BEGIN:STANDARD
DTSTART:20181104T010000
TZNAME:EST
TZOFFSETFROM:-0400
TZOFFSETTO:-0500
END:STANDARD
END:VTIMEZONE
END:VCALENDAR
