BEGIN:VCALENDAR
VERSION:2.0
PRODID:-//Plone.org//NONSGML plone.app.event//EN
X-WR-TIMEZONE:America/New_York
BEGIN:VEVENT
SUMMARY:Meet with law Schools
DTSTART;TZID=America/New_York:20181026T130000
DTEND;TZID=America/New_York:20181026T180000
DTSTAMP:20260420T210654Z
UID:62c02ca10aac4edea3e3c285fab94984@172.16.140.7:8080
ATTENDEE;CN="Open to public";ROLE=REQ-PARTICIPANT:Open to public
CONTACT:Robin A. Harper\, Ph.D.  Professor of Political Science\, (718)262
 -2692\, https://www.lsac.org/2018-law-school-forums/new-york-ny-law-school
 -forum
CREATED:20181003T164808Z
DESCRIPTION:Are you thinking about law school? Curious about what careers 
 in law are possible? Wondering how you can finance law school? If you're e
 ven a little curious\, find out more! Attend the Law School Admissions Cou
 ncil's annual open house:
LAST-MODIFIED:20181003T184039Z
LOCATION:LSAC Forum in  New York Hilton Midtown 1335 New York\, NY 10019 A
 venue of the Americas
URL:https://www.york.cuny.edu/events/2019/meet-with-law-schools-
END:VEVENT
BEGIN:VTIMEZONE
TZID:America/New_York
X-LIC-LOCATION:America/New_York
BEGIN:DAYLIGHT
DTSTART:20180311T030000
TZNAME:EDT
TZOFFSETFROM:-0500
TZOFFSETTO:-0400
END:DAYLIGHT
END:VTIMEZONE
END:VCALENDAR
