BEGIN:VCALENDAR
VERSION:2.0
PRODID:-//Plone.org//NONSGML plone.app.event//EN
X-WR-TIMEZONE:America/New_York
BEGIN:VEVENT
SUMMARY:LinkedIn Connect to Opportunity
DTSTART;TZID=America/New_York:20190404T120000
DTEND;TZID=America/New_York:20190404T140000
DTSTAMP:20260419T175230Z
UID:6846c5e0887e427f98f446070317bd7b@172.16.140.7:8080
CATEGORIES:student,Career Services
CREATED:20190320T145147Z
DESCRIPTION:An event dedicated to building your personal brand and improvi
 ng your LinkedIn profile.
LAST-MODIFIED:20190320T161109Z
LOCATION:AC-3H Atrium
URL:https://www.york.cuny.edu/events/2019/linkedin-connect-to-oppertunity
END:VEVENT
BEGIN:VTIMEZONE
TZID:America/New_York
X-LIC-LOCATION:America/New_York
BEGIN:DAYLIGHT
DTSTART:20190310T030000
TZNAME:EDT
TZOFFSETFROM:-0500
TZOFFSETTO:-0400
END:DAYLIGHT
END:VTIMEZONE
END:VCALENDAR
