BEGIN:VCALENDAR
VERSION:2.0
PRODID:-//Plone.org//NONSGML plone.app.event//EN
X-WR-TIMEZONE:America/New_York
BEGIN:VEVENT
SUMMARY:Journalism Presents Janae Hunter
DTSTART;TZID=America/New_York:20180306T123000
DTEND;TZID=America/New_York:20180306T133000
DTSTAMP:20260419T134320Z
UID:f5942f3e44904ce1845568e60f6e0b3e@172.16.140.7:8080
CONTACT:Prof. Tom Moore\, Tmoore1@york.cuny.edu
CREATED:20180227T194437Z
DESCRIPTION:The York Journalism Program Presents:  York Journalism Grad & 
 NY1 TV News Producer Janae Hunter
LAST-MODIFIED:20180227T204555Z
LOCATION:AC 2A04
URL:https://www.york.cuny.edu/events/2019/journalism-event
END:VEVENT
BEGIN:VTIMEZONE
TZID:America/New_York
X-LIC-LOCATION:America/New_York
BEGIN:STANDARD
DTSTART:20171105T010000
TZNAME:EST
TZOFFSETFROM:-0400
TZOFFSETTO:-0500
END:STANDARD
END:VTIMEZONE
END:VCALENDAR
