BEGIN:VCALENDAR
VERSION:2.0
PRODID:-//Plone.org//NONSGML plone.app.event//EN
X-WR-TIMEZONE:America/New_York
BEGIN:VEVENT
SUMMARY:York's Homecoming
DTSTART;TZID=America/New_York:20191114T190000
DTEND;TZID=America/New_York:20191115T000000
DTSTAMP:20260424T003145Z
UID:95cfcc54f4b04431b1852bca376c27d7@172.16.140.7:8080
ATTENDEE;CN="Jay Critch, DJ Drewski, Dj Melod";ROLE=REQ-PARTICIPANT:Jay Cr
 itch, DJ Drewski, Dj Melod
CATEGORIES:student,SGA,employee featured
CONTACT:Krishna Fnu\, 718-262-2888\, Krishna.fnu@yorkmail.cuny.edu
CREATED:20191021T145423Z
DESCRIPTION:Join York for their annual Homecoming Event
LAST-MODIFIED:20191021T171059Z
LOCATION:Physical Education Complex
URL:https://www.york.cuny.edu/events/2019/homecoming
END:VEVENT
BEGIN:VTIMEZONE
TZID:America/New_York
X-LIC-LOCATION:America/New_York
BEGIN:STANDARD
DTSTART:20191103T010000
TZNAME:EST
TZOFFSETFROM:-0400
TZOFFSETTO:-0500
END:STANDARD
END:VTIMEZONE
END:VCALENDAR
