BEGIN:VCALENDAR
VERSION:2.0
PRODID:-//Plone.org//NONSGML plone.app.event//EN
X-WR-TIMEZONE:America/New_York
BEGIN:VEVENT
SUMMARY:Health Professions Career Fair
DTSTART;TZID=America/New_York:20191121T110000
DTEND;TZID=America/New_York:20191121T150000
DTSTAMP:20260421T044921Z
UID:881e352f87b346968a8d93ab6e789416@172.16.140.7:8080
CATEGORIES:employee featured,Career Services,student,employee
CONTACT:Dhanmattie Singh\, 718-262-2282\, DSingh@york.cuny.edu
CREATED:20191009T163221Z
DESCRIPTION:Speak with representatives from healthcare organizations and a
 gencies.
LAST-MODIFIED:20191120T135231Z
LOCATION:AC-2D01
URL:https://www.york.cuny.edu/events/2019/health-professions-career-fair
END:VEVENT
BEGIN:VTIMEZONE
TZID:America/New_York
X-LIC-LOCATION:America/New_York
BEGIN:STANDARD
DTSTART:20191103T010000
TZNAME:EST
TZOFFSETFROM:-0400
TZOFFSETTO:-0500
END:STANDARD
END:VTIMEZONE
END:VCALENDAR
