BEGIN:VCALENDAR
VERSION:2.0
PRODID:-//Plone.org//NONSGML plone.app.event//EN
X-WR-TIMEZONE:America/New_York
BEGIN:VEVENT
SUMMARY:Google Technical Interview Workshop
DTSTART;TZID=America/New_York:20191010T120000
DTEND;TZID=America/New_York:20191010T140000
DTSTAMP:20260425T143150Z
UID:77555bb55e21449dba4cfead924efad3@172.16.140.7:8080
CATEGORIES:Career Services,employee featured,student
CONTACT:Dhanmattie Singh\, DSingh@york.cuny.edu
CREATED:20191008T181710Z
DESCRIPTION:Brush up on your interview skills - tips\, tricks\, and live i
 nterview demo
LAST-MODIFIED:20191009T125012Z
LOCATION:AC-3M01
URL:https://www.york.cuny.edu/events/2019/google-technical-interview-works
 hop
END:VEVENT
BEGIN:VTIMEZONE
TZID:America/New_York
X-LIC-LOCATION:America/New_York
BEGIN:DAYLIGHT
DTSTART:20190310T030000
TZNAME:EDT
TZOFFSETFROM:-0500
TZOFFSETTO:-0400
END:DAYLIGHT
END:VTIMEZONE
END:VCALENDAR
