BEGIN:VCALENDAR
VERSION:2.0
PRODID:-//Plone.org//NONSGML plone.app.event//EN
X-WR-TIMEZONE:America/New_York
BEGIN:VEVENT
SUMMARY:Assessing the "General": Why\, How and What to Assess for Pathways
DTSTART;TZID=America/New_York:20190321T121500
DTEND;TZID=America/New_York:20190321T134500
DTSTAMP:20260420T093924Z
UID:059f8fe3254e4be68ce49a278cf21877@172.16.140.7:8080
CATEGORIES:employee
CREATED:20190313T151557Z
DESCRIPTION:The General Education Assessment Committee and the office of I
 nstitutional Effectiveness and Strategic Planning\, cordially invite you t
 o attend our very first workshop on General Education Assessment.
LAST-MODIFIED:20190313T161921Z
LOCATION:AC-3H10
URL:https://www.york.cuny.edu/events/2019/general-education-assessment-wor
 kshop
END:VEVENT
BEGIN:VTIMEZONE
TZID:America/New_York
X-LIC-LOCATION:America/New_York
BEGIN:DAYLIGHT
DTSTART:20190310T030000
TZNAME:EDT
TZOFFSETFROM:-0500
TZOFFSETTO:-0400
END:DAYLIGHT
END:VTIMEZONE
END:VCALENDAR
