BEGIN:VCALENDAR
VERSION:2.0
PRODID:-//Plone.org//NONSGML plone.app.event//EN
X-WR-TIMEZONE:America/New_York
BEGIN:VEVENT
SUMMARY:Fall 2018 CLC Writing Workshop: Conducting Research
DTSTART;TZID=America/New_York:20181101T120000
DTEND;TZID=America/New_York:20181101T130000
DTSTAMP:20260420T184719Z
UID:6f75167d44b94094b05380b1fe59e8dd@172.16.140.7:8080
CATEGORIES:CLC,Collaborative Learning Center
CREATED:20180925T194605Z
DESCRIPTION:The Collaborative Learning Center is running a series Writing 
 Workshops facilitated by CLC Writing Consultants.
LAST-MODIFIED:20180925T194822Z
LOCATION:1E04
URL:https://www.york.cuny.edu/events/2019/fall-2018-clc-writing-workshop-c
 onducting-research
END:VEVENT
BEGIN:VTIMEZONE
TZID:America/New_York
X-LIC-LOCATION:America/New_York
BEGIN:DAYLIGHT
DTSTART:20180311T030000
TZNAME:EDT
TZOFFSETFROM:-0500
TZOFFSETTO:-0400
END:DAYLIGHT
END:VTIMEZONE
END:VCALENDAR
