BEGIN:VCALENDAR
VERSION:2.0
PRODID:-//Plone.org//NONSGML plone.app.event//EN
X-WR-TIMEZONE:America/New_York
BEGIN:VEVENT
SUMMARY:Fall 2018 CLC Writing Workshop: Anatomy of an Essay
DTSTART;TZID=America/New_York:20181004T120000
DTEND;TZID=America/New_York:20181004T135000
DTSTAMP:20260421T171025Z
UID:30bdc871683e46e9b3048783d2cccff6@172.16.140.7:8080
CATEGORIES:CLC,Collaborative Learning Center
CREATED:20180925T192619Z
DESCRIPTION:The Collaborative Learning Center is running a series Writing 
 Workshops facilitated by CLC Writing Consultants.
LAST-MODIFIED:20180925T193257Z
LOCATION:1E04
URL:https://www.york.cuny.edu/events/2019/fa-2018-writing-workshop-anatomy
 -of-an-essay
END:VEVENT
BEGIN:VTIMEZONE
TZID:America/New_York
X-LIC-LOCATION:America/New_York
BEGIN:DAYLIGHT
DTSTART:20180311T030000
TZNAME:EDT
TZOFFSETFROM:-0500
TZOFFSETTO:-0400
END:DAYLIGHT
END:VTIMEZONE
END:VCALENDAR
