BEGIN:VCALENDAR
VERSION:2.0
PRODID:-//Plone.org//NONSGML plone.app.event//EN
X-WR-TIMEZONE:America/New_York
BEGIN:VEVENT
SUMMARY:The Exonerated Five: 30 Years Later\, A Community Dialogue
DTSTART;TZID=America/New_York:20191105T180000
DTEND;TZID=America/New_York:20191105T200000
DTSTAMP:20260421T070701Z
UID:9455e49042244b619f014db5800dab37@172.16.140.7:8080
CATEGORIES:employee,ds,employee featured,Student Affairs,student,African A
 merican Resource Center
CONTACT:Student Development\, studentdevelopment@york.cuny.edu
CREATED:20191009T143211Z
DESCRIPTION:Community dialogue about the Exonerated Five
LAST-MODIFIED:20191022T194255Z
LOCATION:AC-Atrium
URL:https://www.york.cuny.edu/events/2019/exonerated-five-30-years-later-a
 -community-dialogue
END:VEVENT
BEGIN:VTIMEZONE
TZID:America/New_York
X-LIC-LOCATION:America/New_York
BEGIN:STANDARD
DTSTART:20191103T010000
TZNAME:EST
TZOFFSETFROM:-0400
TZOFFSETTO:-0500
END:STANDARD
END:VTIMEZONE
END:VCALENDAR
