BEGIN:VCALENDAR
VERSION:2.0
PRODID:-//Plone.org//NONSGML plone.app.event//EN
X-WR-TIMEZONE:America/New_York
BEGIN:VEVENT
SUMMARY:An Introduction to Regression Analysis
DTSTART;TZID=America/New_York:20190502T120000
DTEND;TZID=America/New_York:20190502T130000
DTSTAMP:20260420T231243Z
UID:96cacafe454c45a78db53be2e6e9b3e2@172.16.140.7:8080
CATEGORIES:employee featured,student,employee,Mathematics and Computer Sci
 ence
CONTACT:Lidia Gonzalez\, 718-262-2551\, Lgonzalez@york.cuny.edu
CREATED:20190407T192542Z
DESCRIPTION:Join us for a math/cs club talk by Dr. Wang of the Department 
 of Mathematics and Computer Science. The talk is about regression analysis
 .
LAST-MODIFIED:20190418T172926Z
LOCATION:AC-2C07 Conference Room
URL:https://www.york.cuny.edu/events/2019/event.2019-04-07.1428224496
END:VEVENT
BEGIN:VTIMEZONE
TZID:America/New_York
X-LIC-LOCATION:America/New_York
BEGIN:DAYLIGHT
DTSTART:20190310T030000
TZNAME:EDT
TZOFFSETFROM:-0500
TZOFFSETTO:-0400
END:DAYLIGHT
END:VTIMEZONE
END:VCALENDAR
