BEGIN:VCALENDAR
VERSION:2.0
PRODID:-//Plone.org//NONSGML plone.app.event//EN
X-WR-TIMEZONE:America/New_York
BEGIN:VEVENT
SUMMARY:Men's Tennis
DTSTART;TZID=America/New_York:20190406T120000
DTEND;TZID=America/New_York:20190406T150000
DTSTAMP:20260420T191759Z
UID:5d3baa5e2fc546a2b0c17548c683fcdd@172.16.140.7:8080
CATEGORIES:employee featured,Athletics,student,employee
CONTACT:Artie Bayes\, 718-262-5114\, yorksid@york.cuny.edu\, https://yorka
 thletics.com/schedule.aspx?path=mten
CREATED:20190405T135254Z
DESCRIPTION:York vs College of Staten Island
LAST-MODIFIED:20190405T142546Z
LOCATION:York College Courts
URL:https://www.york.cuny.edu/events/2019/event.2019-04-05.3745120971
END:VEVENT
BEGIN:VTIMEZONE
TZID:America/New_York
X-LIC-LOCATION:America/New_York
BEGIN:DAYLIGHT
DTSTART:20190310T030000
TZNAME:EDT
TZOFFSETFROM:-0500
TZOFFSETTO:-0400
END:DAYLIGHT
END:VTIMEZONE
END:VCALENDAR
