BEGIN:VCALENDAR
VERSION:2.0
PRODID:-//Plone.org//NONSGML plone.app.event//EN
X-WR-TIMEZONE:America/New_York
BEGIN:VEVENT
SUMMARY:"Love Doesn't Hurt"
DTSTART;TZID=America/New_York:20190214T120000
DTEND;TZID=America/New_York:20190214T135000
DTSTAMP:20260420T184646Z
UID:bab4c5d263084fa1ba9c53f4353e7390@172.16.140.7:8080
CATEGORIES:student,employee
CONTACT:Student Health Services Center\, 718-262-2050\, shawkins@york.cuny
 .edu
CREATED:20190131T170845Z
DESCRIPTION:Inviting Men and Women: Student Health Services in collaborati
 on with the Women and Men's Centers will be hosting Domestic/Intimate Part
 ner Violence Panel Discussion
LAST-MODIFIED:20190204T143407Z
LOCATION:AC-2M05
URL:https://www.york.cuny.edu/events/2019/event.2019-01-31.7650997884
END:VEVENT
BEGIN:VTIMEZONE
TZID:America/New_York
X-LIC-LOCATION:America/New_York
BEGIN:STANDARD
DTSTART:20181104T010000
TZNAME:EST
TZOFFSETFROM:-0400
TZOFFSETTO:-0500
END:STANDARD
END:VTIMEZONE
END:VCALENDAR
