BEGIN:VCALENDAR
VERSION:2.0
PRODID:-//Plone.org//NONSGML plone.app.event//EN
X-WR-TIMEZONE:America/New_York
BEGIN:VEVENT
SUMMARY:Dean's List Reception 2018
DTSTART;TZID=America/New_York:20180315T120000
DTEND;TZID=America/New_York:20180315T140000
DTSTAMP:20260422T120505Z
UID:6eb439542be34566814a2159a4b8cf83@172.16.140.7:8080
CATEGORIES:ds,student,employee featured
CREATED:20180305T172736Z
DESCRIPTION:12th Annual Dean's List Reception
LAST-MODIFIED:20180305T173245Z
LOCATION:Gymnasium
URL:https://www.york.cuny.edu/events/2019/deans-list-reception-2018
END:VEVENT
BEGIN:VTIMEZONE
TZID:America/New_York
X-LIC-LOCATION:America/New_York
BEGIN:DAYLIGHT
DTSTART:20180311T030000
TZNAME:EDT
TZOFFSETFROM:-0500
TZOFFSETTO:-0400
END:DAYLIGHT
END:VTIMEZONE
END:VCALENDAR
