BEGIN:VCALENDAR
VERSION:2.0
PRODID:-//Plone.org//NONSGML plone.app.event//EN
X-WR-TIMEZONE:America/New_York
BEGIN:VEVENT
SUMMARY:CLEP Awareness Event
DTSTART;TZID=America/New_York:20191115T110000
DTEND;TZID=America/New_York:20191115T140000
DTSTAMP:20260420T003427Z
UID:e3452a3b0be44576963086f6f009f51c@172.16.140.7:8080
CONTACT:Odiah Wallace\, 718.262.2012/2010\, owallace@york.cuny.edu
CREATED:20191017T163341Z
DESCRIPTION:The Testing Center would like to invite the York College commu
 nity to its CLEP Exam informational event.
LAST-MODIFIED:20191113T205856Z
LOCATION:Atrium/Academic Core Building
URL:https://www.york.cuny.edu/events/2019/clep-awareness-event
END:VEVENT
BEGIN:VTIMEZONE
TZID:America/New_York
X-LIC-LOCATION:America/New_York
BEGIN:STANDARD
DTSTART:20191103T010000
TZNAME:EST
TZOFFSETFROM:-0400
TZOFFSETTO:-0500
END:STANDARD
END:VTIMEZONE
END:VCALENDAR
