BEGIN:VCALENDAR
VERSION:2.0
PRODID:-//Plone.org//NONSGML plone.app.event//EN
X-WR-TIMEZONE:America/New_York
BEGIN:VEVENT
SUMMARY:Arts and Science Distinguished Lecture: Resistance Rap
DTSTART;TZID=America/New_York:20181206T123000
DTEND;TZID=America/New_York:20181206T140000
DTSTAMP:20260420T073101Z
UID:04208b3fb64b4ca78d5d014d23f42243@172.16.140.7:8080
ATTENDEE;CN="Francesco Carlo, aka Kento";ROLE=REQ-PARTICIPANT:Francesco Ca
 rlo, aka Kento
CATEGORIES:employee featured,student,employee,Arts and Sciences
CONTACT:Deb.N. Chakravarti\, dchakravarti@york.cuny.edu
CREATED:20181120T191640Z
DESCRIPTION:Arts and Sciences Distinguished Lecture: Resistance Rap with S
 peaker and Performer: Francesco Carlo\, aka Kento
LAST-MODIFIED:20181121T134006Z
LOCATION:AC Atrium
URL:https://www.york.cuny.edu/events/2019/arts-science-distinguished-lectu
 re
END:VEVENT
BEGIN:VTIMEZONE
TZID:America/New_York
X-LIC-LOCATION:America/New_York
BEGIN:STANDARD
DTSTART:20181104T010000
TZNAME:EST
TZOFFSETFROM:-0400
TZOFFSETTO:-0500
END:STANDARD
END:VTIMEZONE
END:VCALENDAR
