BEGIN:VCALENDAR
VERSION:2.0
PRODID:-//Plone.org//NONSGML plone.app.event//EN
X-WR-TIMEZONE:America/New_York
BEGIN:VEVENT
SUMMARY:York Invitational: St. Mary's College of Maryland vs Saint Vincent
  College
DTSTART;TZID=America/New_York:20181214T173000
DTEND;TZID=America/New_York:20181214T193000
DTSTAMP:20260422T093920Z
UID:43db203f370546db9f2868b99af04864@172.16.140.7:8080
CATEGORIES:employee featured,Athletics,student,employee
CONTACT:Artie Bayes\, 347-582-0309\, https://yorkathletics.com
CREATED:20181210T223542Z
DESCRIPTION:York College Basketball will host the York Invitational
LAST-MODIFIED:20181211T144514Z
LOCATION:York HPE GYM
URL:https://www.york.cuny.edu/events/2019/2018invitational1
END:VEVENT
BEGIN:VTIMEZONE
TZID:America/New_York
X-LIC-LOCATION:America/New_York
BEGIN:STANDARD
DTSTART:20181104T010000
TZNAME:EST
TZOFFSETFROM:-0400
TZOFFSETTO:-0500
END:STANDARD
END:VTIMEZONE
END:VCALENDAR
