BEGIN:VCALENDAR
VERSION:2.0
PRODID:-//Plone.org//NONSGML plone.app.event//EN
X-WR-TIMEZONE:America/New_York
BEGIN:VEVENT
SUMMARY:A Social Justice Talk
DTSTART;TZID=America/New_York:20191025T100000
DTEND;TZID=America/New_York:20191025T150000
DTSTAMP:20260420T214136Z
UID:ea693aa6c9b547e0a6e400f46a10d7bb@172.16.140.7:8080
ATTENDEE;CN="Dr. Kimani Nehusi, Temple University, Philadelphia";ROLE=REQ-
 PARTICIPANT:Dr. Kimani Nehusi, Temple University, Philadelphia
ATTENDEE;CN="The Rev. Shelley McDade, Rector, St. John’s Episcopal Churc
 h, Park Slope, Brooklyn, Diocese of L.I.";ROLE=REQ-PARTICIPANT:The Rev. Sh
 elley McDade, Rector, St. John’s Episcopal Church, Park Slope, Brooklyn,
  Diocese of L.I.
ATTENDEE;CN="Dr. Juliet Emanuel, BMCC/CUNY";ROLE=REQ-PARTICIPANT:Dr. Julie
 t Emanuel, BMCC/CUNY
ATTENDEE;CN="Professor Thomas Moore, York College/CUNY";ROLE=REQ-PARTICIPA
 NT:Professor Thomas Moore, York College/CUNY
ATTENDEE;CN="Dr. Crystal Byndloss, Director, MDRC";ROLE=REQ-PARTICIPANT:Dr
 . Crystal Byndloss, Director, MDRC
ATTENDEE;CN="Ms. Azriena Jones, SUNY U @ Buffalo";ROLE=REQ-PARTICIPANT:Ms.
  Azriena Jones, SUNY U @ Buffalo
ATTENDEE;CN="Mr. Mina Abusafe, NYCCT (City Tech)";ROLE=REQ-PARTICIPANT:Mr.
  Mina Abusafe, NYCCT (City Tech)
ATTENDEE;CN="Dr. Tajpertab Rajkumar, BMCC/CUNY";ROLE=REQ-PARTICIPANT:Dr. T
 ajpertab Rajkumar, BMCC/CUNY
CATEGORIES:employee featured,student,Journalism Program
CONTACT:Tom Moore\, TMoore1@york.cuny.edu
CREATED:20191023T143626Z
DESCRIPTION:CUNY Faculty and guest speakers are gathering for a Social Jus
 tice panel at York.
LAST-MODIFIED:20191023T164938Z
LOCATION:AC-2M04
URL:https://www.york.cuny.edu/events/2019/-a-social-justice-talk
END:VEVENT
BEGIN:VTIMEZONE
TZID:America/New_York
X-LIC-LOCATION:America/New_York
BEGIN:DAYLIGHT
DTSTART:20190310T030000
TZNAME:EDT
TZOFFSETFROM:-0500
TZOFFSETTO:-0400
END:DAYLIGHT
END:VTIMEZONE
END:VCALENDAR
