BEGIN:VCALENDAR
VERSION:2.0
PRODID:-//Plone.org//NONSGML plone.app.event//EN
X-WR-TIMEZONE:America/New_York
BEGIN:VEVENT
SUMMARY:Virtual Information Session
DTSTART;TZID=America/New_York:20260313T153000
DTEND;TZID=America/New_York:20260313T163000
DTSTAMP:20260424T004531Z
UID:2d7a43350f9a49a19941863f6b455fc2@172.16.140.7:8080
CATEGORIES:Admitted Student Events
CONTACT:Admissions\, https://us02web.zoom.us/j/82845980424?pwd=QzlEeWw3dml
 yRE55ZCtMK2pqVFFKZz09
CREATED:20260303T183045Z
DESCRIPTION:Embark on your college journey with a comprehensive one-hour i
 nformation session covering vital aspects of academic life. 
LAST-MODIFIED:20260303T183054Z
LOCATION:Zoom
URL:https://www.york.cuny.edu/enrollment-retention-management/virtual-info
 rmation-session
END:VEVENT
BEGIN:VTIMEZONE
TZID:America/New_York
X-LIC-LOCATION:America/New_York
BEGIN:DAYLIGHT
DTSTART:20260308T030000
TZNAME:EDT
TZOFFSETFROM:-0500
TZOFFSETTO:-0400
END:DAYLIGHT
END:VTIMEZONE
END:VCALENDAR
