BEGIN:VCALENDAR
VERSION:2.0
PRODID:-//Plone.org//NONSGML plone.app.event//EN
X-WR-TIMEZONE:America/New_York
BEGIN:VEVENT
SUMMARY:Wikipedia Initiative Training Workshop Session 1
DTSTART;TZID=America/New_York:20171031T160000
DTEND;TZID=America/New_York:20171031T165000
DTSTAMP:20260420T093636Z
UID:13f12c25c6d14ba2adb01d9b14eda0c8@172.16.140.7:8080
CATEGORIES:employee,CTLET
CONTACT:CTLET\, 718-262-2751\, ctlet@york.cuny.edu\, https://www.york.cuny
 .edu/academics/academic-affairs/ctlet/yc-wikipedia-initiative
CREATED:20171010T173437Z
DESCRIPTION:Wikipedia Initiative Training Workshop for Faculty
LAST-MODIFIED:20230615T200947Z
LOCATION:AC-4EA1
URL:https://www.york.cuny.edu/ctlet/calendar/wikipedia-initiative-training
 -workshop
END:VEVENT
BEGIN:VTIMEZONE
TZID:America/New_York
X-LIC-LOCATION:America/New_York
BEGIN:DAYLIGHT
DTSTART:20170312T030000
TZNAME:EDT
TZOFFSETFROM:-0500
TZOFFSETTO:-0400
END:DAYLIGHT
END:VTIMEZONE
END:VCALENDAR
