BEGIN:VCALENDAR
VERSION:2.0
PRODID:-//Plone.org//NONSGML plone.app.event//EN
X-WR-TIMEZONE:America/New_York
BEGIN:VEVENT
SUMMARY:Student Technology Workshop 5
DTSTART;TZID=America/New_York:20180130T113000
DTEND;TZID=America/New_York:20180130T123000
DTSTAMP:20260421T192015Z
UID:b424cabd8bed44ee8582f6932f1912f9@172.16.140.7:8080
RRULE:FREQ=WEEKLY;UNTIL=20180223T000000;BYDAY=TU
CATEGORIES:employee,CTLET
CONTACT:CTLET\, 718-262-5219\, bbadmin@york.cuny.edu\, https://www.york.cu
 ny.edu/academics/academic-affairs/ctlet/for-students/bbstudent/workshops
CREATED:20180103T072635Z
DESCRIPTION:Student Technology Workshops - CUNY Portal/ Blackboard (Sessio
 n 2)
LAST-MODIFIED:20230615T200947Z
LOCATION:AC-4EA1
URL:https://www.york.cuny.edu/ctlet/calendar/student-technology-workshop-5
END:VEVENT
BEGIN:VTIMEZONE
TZID:America/New_York
X-LIC-LOCATION:America/New_York
BEGIN:STANDARD
DTSTART:20171105T010000
TZNAME:EST
TZOFFSETFROM:-0400
TZOFFSETTO:-0500
END:STANDARD
END:VTIMEZONE
END:VCALENDAR
