BEGIN:VCALENDAR
VERSION:2.0
PRODID:-//Plone.org//NONSGML plone.app.event//EN
X-WR-TIMEZONE:America/New_York
BEGIN:VEVENT
SUMMARY:Student Technology Workshop 12
DTSTART;TZID=America/New_York:20180202T100000
DTEND;TZID=America/New_York:20180202T110000
DTSTAMP:20260422T025843Z
UID:7126930ab4ed452684e1dcbb1f96b75a@172.16.140.7:8080
RRULE:FREQ=WEEKLY;UNTIL=20180223T000000;BYDAY=FR
CATEGORIES:employee,CTLET
CONTACT:CTLET\, 718-262-2751\, bbadmin@york.cuny.edu\, https://www.york.cu
 ny.edu/academics/academic-affairs/ctlet/for-students/bbstudent/workshops
CREATED:20180103T063550Z
DESCRIPTION:Student Technology Workshops - Online/Hybrid Course Orientatio
 n (including Blackboard)
LAST-MODIFIED:20230615T200946Z
LOCATION:AC-4EA1
URL:https://www.york.cuny.edu/ctlet/calendar/student-technology-workshop-1
 2
END:VEVENT
BEGIN:VTIMEZONE
TZID:America/New_York
X-LIC-LOCATION:America/New_York
BEGIN:STANDARD
DTSTART:20171105T010000
TZNAME:EST
TZOFFSETFROM:-0400
TZOFFSETTO:-0500
END:STANDARD
END:VTIMEZONE
END:VCALENDAR
