BEGIN:VCALENDAR
VERSION:2.0
PRODID:-//Plone.org//NONSGML plone.app.event//EN
X-WR-TIMEZONE:America/New_York
BEGIN:VEVENT
SUMMARY:Blackboard Setting-It-Up-Together Days (Session 11)
DTSTART;TZID=America/New_York:20180130T140000
DTEND;TZID=America/New_York:20180130T153000
DTSTAMP:20260420T073549Z
UID:052301ca0cd44251aae0593b6daa0a76@172.16.140.7:8080
CATEGORIES:employee,CTLET
CONTACT:CTLET\, 718-262-2751\, ctlet@york.cuny.edu\, https://www.york.cuny
 .edu/academics/academic-affairs/ctlet/for-faculty/bbfaculty/setting-it-up-
 together-days
CREATED:20180102T075631Z
DESCRIPTION:From January 22nd to February 2nd\, we will hold Setting-It-Up
 -Together Days for both early and just-in-time birds.
LAST-MODIFIED:20230615T200946Z
LOCATION:AC-4EA1
URL:https://www.york.cuny.edu/ctlet/calendar/setting-it-up-together-days-s
 ession-11
END:VEVENT
BEGIN:VTIMEZONE
TZID:America/New_York
X-LIC-LOCATION:America/New_York
BEGIN:STANDARD
DTSTART:20171105T010000
TZNAME:EST
TZOFFSETFROM:-0400
TZOFFSETTO:-0500
END:STANDARD
END:VTIMEZONE
END:VCALENDAR
