BEGIN:VCALENDAR
VERSION:2.0
PRODID:-//Plone.org//NONSGML plone.app.event//EN
X-WR-TIMEZONE:America/New_York
BEGIN:VEVENT
SUMMARY:Making your students participate (Session 1)
DTSTART;TZID=America/New_York:20171018T140000
DTEND;TZID=America/New_York:20171018T145000
DTSTAMP:20260421T145329Z
UID:90e011bb9e884c3e8a1263ac7910c6dc@172.16.140.7:8080
CATEGORIES:employee,CTLET
CONTACT:CTLET\, 718-262-2751\, ctlet@york.cuny.edu\, https://www.york.cuny
 .edu/academics/academic-affairs/ctlet/ignite-tune-up
CREATED:20171010T192214Z
DESCRIPTION:Ignition & Tune Up Sessions (Series 2) – Making your student
 s participate
LAST-MODIFIED:20230615T200946Z
LOCATION:AC-4EA1
URL:https://www.york.cuny.edu/ctlet/calendar/ignite--tune-up-sessions-seri
 es-2-making-your-students-participate
END:VEVENT
BEGIN:VTIMEZONE
TZID:America/New_York
X-LIC-LOCATION:America/New_York
BEGIN:DAYLIGHT
DTSTART:20170312T030000
TZNAME:EDT
TZOFFSETFROM:-0500
TZOFFSETTO:-0400
END:DAYLIGHT
END:VTIMEZONE
END:VCALENDAR
