BEGIN:VCALENDAR
VERSION:2.0
PRODID:-//Plone.org//NONSGML plone.app.event//EN
X-WR-TIMEZONE:America/New_York
BEGIN:VEVENT
SUMMARY:Designing Group Projects (Session 1)
DTSTART;TZID=America/New_York:20171016T140000
DTEND;TZID=America/New_York:20171016T145000
DTSTAMP:20260421T052936Z
UID:b22c35f8a78e4d72855c0910c1fe0ac6@172.16.140.7:8080
CATEGORIES:employee,CTLET
CONTACT:CTLET\, 718-262-2751\, ctlet@york.cuny.edu\, https://www.york.cuny
 .edu/academics/academic-affairs/ctlet/ignite-tune-up
CREATED:20171010T182821Z
DESCRIPTION:Ignition & Tune Up Sessions (Series 1) - Designing Group Proje
 cts
LAST-MODIFIED:20230615T200945Z
LOCATION:AC-4EA1
URL:https://www.york.cuny.edu/ctlet/calendar/ignite--tune-up-sessions-seri
 es-1-designing-group-projects
END:VEVENT
BEGIN:VTIMEZONE
TZID:America/New_York
X-LIC-LOCATION:America/New_York
BEGIN:DAYLIGHT
DTSTART:20170312T030000
TZNAME:EDT
TZOFFSETFROM:-0500
TZOFFSETTO:-0400
END:DAYLIGHT
END:VTIMEZONE
END:VCALENDAR
