BEGIN:VCALENDAR
VERSION:2.0
PRODID:-//Plone.org//NONSGML plone.app.event//EN
X-WR-TIMEZONE:America/New_York
BEGIN:VEVENT
SUMMARY:Getting Started with Bb Course Setup Session 2
DTSTART;TZID=America/New_York:20220114T100000
DTEND;TZID=America/New_York:20220114T110000
DTSTAMP:20260424T004531Z
UID:922a29ead5e34306a76b251fa1f50c71@172.16.140.7:8080
CONTACT:CTLET\, bbhelp@york.cuny.edu
CREATED:20220106T154335Z
DESCRIPTION:In this online hands-on workshop session\, we'll guide faculty
  to set up their course in Blackboard.
LAST-MODIFIED:20230615T200947Z
LOCATION:CTLET Organization site in Blackboard
URL:https://www.york.cuny.edu/ctlet/calendar/getting-started-with-bb-cours
 e-setup-session-2
END:VEVENT
BEGIN:VTIMEZONE
TZID:America/New_York
X-LIC-LOCATION:America/New_York
BEGIN:STANDARD
DTSTART:20211107T010000
TZNAME:EST
TZOFFSETFROM:-0400
TZOFFSETTO:-0500
END:STANDARD
END:VTIMEZONE
END:VCALENDAR
