BEGIN:VCALENDAR
VERSION:2.0
PRODID:-//Plone.org//NONSGML plone.app.event//EN
X-WR-TIMEZONE:America/New_York
BEGIN:VEVENT
SUMMARY:Faculty Getting started with Bb course setup
DTSTART;TZID=America/New_York:20210826T100000
DTEND;TZID=America/New_York:20210826T105000
DTSTAMP:20260419T201431Z
UID:29aea735818546428e6a695dc347d004@172.16.140.7:8080
CATEGORIES:CTLET
CONTACT:CTLET\, bbhelp@york.cuny.edu
CREATED:20210817T153815Z
DESCRIPTION:Faculty Getting started with Bb course setup August 26 at 10 A
 M on Zoom
LAST-MODIFIED:20230615T200945Z
LOCATION:Zoom
URL:https://www.york.cuny.edu/ctlet/calendar/getting-started-bb-course-set
 up-august-26-10-am
END:VEVENT
BEGIN:VTIMEZONE
TZID:America/New_York
X-LIC-LOCATION:America/New_York
BEGIN:DAYLIGHT
DTSTART:20210314T030000
TZNAME:EDT
TZOFFSETFROM:-0500
TZOFFSETTO:-0400
END:DAYLIGHT
END:VTIMEZONE
END:VCALENDAR
