BEGIN:VCALENDAR
VERSION:2.0
PRODID:-//Plone.org//NONSGML plone.app.event//EN
X-WR-TIMEZONE:America/New_York
BEGIN:VEVENT
SUMMARY:Faculty Getting started with Bb course setup
DTSTART;TZID=America/New_York:20210823T190000
DTEND;TZID=America/New_York:20210823T195000
DTSTAMP:20260419T120004Z
UID:d2364cad458c400ba3feb6c6bde81b01@172.16.140.7:8080
CATEGORIES:CTLET
CONTACT:CTLET\, bbhelp@york.cuny.edu
CREATED:20210817T152809Z
DESCRIPTION:Faculty Getting started with Bb course setup August 23 at 7 PM
  on Zoom
LAST-MODIFIED:20230615T200945Z
LOCATION:Zoom
URL:https://www.york.cuny.edu/ctlet/calendar/getting-started-bb-course-set
 up-august-23-7-pm
END:VEVENT
BEGIN:VTIMEZONE
TZID:America/New_York
X-LIC-LOCATION:America/New_York
BEGIN:DAYLIGHT
DTSTART:20210314T030000
TZNAME:EDT
TZOFFSETFROM:-0500
TZOFFSETTO:-0400
END:DAYLIGHT
END:VTIMEZONE
END:VCALENDAR
