BEGIN:VCALENDAR
VERSION:2.0
PRODID:-//Plone.org//NONSGML plone.app.event//EN
X-WR-TIMEZONE:America/New_York
BEGIN:VEVENT
SUMMARY:Faculty Zoom Workshop: Using Polling for Better Engagement (2)
DTSTART;TZID=America/New_York:20220830T150000
DTEND;TZID=America/New_York:20220830T160000
DTSTAMP:20260419T160453Z
UID:4bde8360bb56480ea8aedd1489f9d520@172.16.140.7:8080
CATEGORIES:CTLET
CONTACT:CTLET\, https://www.york.cuny.edu/ctlet/zoom-faculty-training-sess
 ions-2
CREATED:20220808T191625Z
DESCRIPTION:Faculty Zoom Workshop: Using Polling for Better Engagement on 
 August 30th at 3 pm.
LAST-MODIFIED:20230615T200945Z
LOCATION:Blackboard Collaborate
URL:https://www.york.cuny.edu/ctlet/calendar/faculty-zoom-workshop-using-p
 olling-aug-30
END:VEVENT
BEGIN:VTIMEZONE
TZID:America/New_York
X-LIC-LOCATION:America/New_York
BEGIN:DAYLIGHT
DTSTART:20220313T030000
TZNAME:EDT
TZOFFSETFROM:-0500
TZOFFSETTO:-0400
END:DAYLIGHT
END:VTIMEZONE
END:VCALENDAR
