BEGIN:VCALENDAR
VERSION:2.0
PRODID:-//Plone.org//NONSGML plone.app.event//EN
X-WR-TIMEZONE:America/New_York
BEGIN:VEVENT
SUMMARY:Faculty Zoom Workshop: Using Polling for Better Engagement (1)
DTSTART;TZID=America/New_York:20220826T100000
DTEND;TZID=America/New_York:20220826T103000
DTSTAMP:20260419T172451Z
UID:ab89523ac19f44738dd9a14a0792ee87@172.16.140.7:8080
CATEGORIES:CTLET
CONTACT:CTLET\, ctlet@york.cuny.edu\, https://www.york.cuny.edu/ctlet/zoom
 -faculty-training-sessions-2
CREATED:20220808T165401Z
DESCRIPTION:Faculty Zoom Workshop: Using Polling for Better Engagement on 
 August 26th at 10 am.
LAST-MODIFIED:20230615T200945Z
LOCATION:Blackboard Collaborate
URL:https://www.york.cuny.edu/ctlet/calendar/faculty-zoom-workshop-using-p
 olling-aug-26
END:VEVENT
BEGIN:VTIMEZONE
TZID:America/New_York
X-LIC-LOCATION:America/New_York
BEGIN:DAYLIGHT
DTSTART:20220313T030000
TZNAME:EDT
TZOFFSETFROM:-0500
TZOFFSETTO:-0400
END:DAYLIGHT
END:VTIMEZONE
END:VCALENDAR
