BEGIN:VCALENDAR
VERSION:2.0
PRODID:-//Plone.org//NONSGML plone.app.event//EN
X-WR-TIMEZONE:America/New_York
BEGIN:VEVENT
SUMMARY:Faculty Blackboard Workshop: Working with Turnitin LTI 1.3 (4)
DTSTART;TZID=America/New_York:20220830T130000
DTEND;TZID=America/New_York:20220830T133000
DTSTAMP:20260421T013845Z
UID:4555805361b84daf89e393b772c415c8@172.16.140.7:8080
CATEGORIES:CTLET
CONTACT:CTLET\, ctlet@york.cuny.edu\, https://www.york.cuny.edu/ctlet/blac
 kboard-workshops-for-faculty
CREATED:20220808T154215Z
DESCRIPTION:Faculty Blackboard (Bb) Workshop: Working with Turnitin LTI 1.
 3 on August 30th at 1 pm.
LAST-MODIFIED:20230615T200944Z
LOCATION:Blackboard Collaborate
URL:https://www.york.cuny.edu/ctlet/calendar/faculty-blackboard-workshop-w
 orking-with-turnitin-lti-aug-30
END:VEVENT
BEGIN:VTIMEZONE
TZID:America/New_York
X-LIC-LOCATION:America/New_York
BEGIN:DAYLIGHT
DTSTART:20220313T030000
TZNAME:EDT
TZOFFSETFROM:-0500
TZOFFSETTO:-0400
END:DAYLIGHT
END:VTIMEZONE
END:VCALENDAR
