BEGIN:VCALENDAR
VERSION:2.0
PRODID:-//Plone.org//NONSGML plone.app.event//EN
X-WR-TIMEZONE:America/New_York
BEGIN:VEVENT
SUMMARY:Faculty Blackboard Workshop: Setting up a course (3)
DTSTART;TZID=America/New_York:20220901T130000
DTEND;TZID=America/New_York:20220901T140000
DTSTAMP:20260420T212901Z
UID:2d9e305a96144477af2049eb205bd0cb@172.16.140.7:8080
CATEGORIES:CTLET
CONTACT:CTLET\, ctlet@york.cuny.edu\, https://www.york.cuny.edu/ctlet/blac
 kboard-workshops-for-faculty
CREATED:20220808T151646Z
DESCRIPTION:Faculty Blackboard (Bb) Workshop: Setting up a course on Septe
 mber 1st at 1 pm.
LAST-MODIFIED:20230615T200944Z
LOCATION:Blackboard Collaborate
URL:https://www.york.cuny.edu/ctlet/calendar/faculty-blackboard-workshop-s
 etting-up-a-course-sept-9-1pm
END:VEVENT
BEGIN:VTIMEZONE
TZID:America/New_York
X-LIC-LOCATION:America/New_York
BEGIN:DAYLIGHT
DTSTART:20220313T030000
TZNAME:EDT
TZOFFSETFROM:-0500
TZOFFSETTO:-0400
END:DAYLIGHT
END:VTIMEZONE
END:VCALENDAR
