BEGIN:VCALENDAR
VERSION:2.0
PRODID:-//Plone.org//NONSGML plone.app.event//EN
X-WR-TIMEZONE:America/New_York
BEGIN:VEVENT
SUMMARY:ACUE Pinning Ceremony 2021
DTSTART;TZID=America/New_York:20211020T160000
DTEND;TZID=America/New_York:20211020T170000
DTSTAMP:20260420T162551Z
UID:ff99e402fe3e4c658ba8c0505c398bdf@172.16.140.7:8080
CATEGORIES:CTLET
CONTACT:CTLET\, ctlet@york.cuny.edu\, https://us02web.zoom.us/meeting/regi
 ster/tZAof-CtrTwuHNxn5MHaGzCDsunguT-d1-dY
CREATED:20211015T204822Z
DESCRIPTION:Join us to celebrate as the 47 York College Faculty members r
 eceive​ their ACUE Certificate in Effective College Instruction!​
LAST-MODIFIED:20230615T200944Z
LOCATION:Zoom
URL:https://www.york.cuny.edu/ctlet/calendar/acue-pinning-ceremony-oct-202
 1
END:VEVENT
BEGIN:VTIMEZONE
TZID:America/New_York
X-LIC-LOCATION:America/New_York
BEGIN:DAYLIGHT
DTSTART:20210314T030000
TZNAME:EDT
TZOFFSETFROM:-0500
TZOFFSETTO:-0400
END:DAYLIGHT
END:VTIMEZONE
END:VCALENDAR
