BEGIN:VCALENDAR
VERSION:2.0
PRODID:-//Plone.org//NONSGML plone.app.event//EN
X-WR-TIMEZONE:America/New_York
BEGIN:VEVENT
SUMMARY:Faculty Getting started with Bb course setup
DTSTART;TZID=America/New_York:20210819T143000
DTEND;TZID=America/New_York:20210819T152000
DTSTAMP:20260419T190900Z
UID:8d421d69b40945cdb071714a4e75ad67@172.16.140.7:8080
CATEGORIES:CTLET
CONTACT:CTLET\, bbhelp@york.cuny.edu
CREATED:20210817T151552Z
DESCRIPTION:Faculty Getting started with Bb course setup August 19 at 2:30
  PM on Zoom
LAST-MODIFIED:20230615T200944Z
LOCATION:Zoom
URL:https://www.york.cuny.edu/ctlet/calendar/-getting-started-bb-course-se
 tup-august-19-230-pm
END:VEVENT
BEGIN:VTIMEZONE
TZID:America/New_York
X-LIC-LOCATION:America/New_York
BEGIN:DAYLIGHT
DTSTART:20210314T030000
TZNAME:EDT
TZOFFSETFROM:-0500
TZOFFSETTO:-0400
END:DAYLIGHT
END:VTIMEZONE
END:VCALENDAR
