BEGIN:VCALENDAR
VERSION:2.0
PRODID:-//Plone.org//NONSGML plone.app.event//EN
X-WR-TIMEZONE:America/New_York
BEGIN:VEVENT
SUMMARY:Ribbon Cutting
DTSTART:20240826T210000Z
DTEND:20240826T220000Z
DTSTAMP:20260423T052508Z
UID:f8481f665fe942d3ab90f7b4dc27f5be@172.16.140.7:8080
CATEGORIES:Center for Students with Disabilities,Student Affairs
CONTACT:Kevin Korber\, ext. 3789\, kkorber@york.cuny.edu
CREATED:20240826T211053Z
DESCRIPTION:CSD will have a Ribbon cutting ceremony for the new 3-D printe
 r as well as microscope. Please join the team\, along with a few of York's
  esteemed professors\, in room 1G02 for this special celebration.    
LAST-MODIFIED:20240827T150316Z
LOCATION:AC rm# 1G02
URL:https://www.york.cuny.edu/csd/ribbon-cutting
END:VEVENT
END:VCALENDAR
